BEGIN:VCALENDAR
VERSION:2.0
PRODID:-//https://archiwum.biskupiec.pl///NONSGML kigkonsult.se iCalcreator 2.10.15//
METHOD:PUBLISH
BEGIN:VEVENT
UID:20260423T185517CEST-8066I1ETR5@https://archiwum.biskupiec.pl/
DTSTAMP:20260423T165517Z
DESCRIPTION: https://archiwum.biskupiec.pl/zobacz-wykaz-i-szczegoly-wydarze
 n/wydarzenie/460-rajd-pieszy
DTSTART:20191013T000000Z
LOCATION:Biskupiec\, Polska (plac Wolności\, 11-300 Biskupiec\, Polska)
SUMMARY:Rajd pieszy
URL:https://archiwum.biskupiec.pl/zobacz-wykaz-i-szczegoly-wydarzen/wydarze
 nie/460-rajd-pieszy
END:VEVENT
BEGIN:VEVENT
UID:20260423T185517CEST-8070IfPodj@https://archiwum.biskupiec.pl/
DTSTAMP:20260423T165517Z
DESCRIPTION: https://archiwum.biskupiec.pl/zobacz-wykaz-i-szczegoly-wydarze
 n/wydarzenie/461-rajd-pieszy
DTSTART:20191117T000000Z
LOCATION:Biskupiec\, Polska (plac Wolności\, 11-300 Biskupiec\, Polska)
SUMMARY:Rajd pieszy
URL:https://archiwum.biskupiec.pl/zobacz-wykaz-i-szczegoly-wydarzen/wydarze
 nie/461-rajd-pieszy
END:VEVENT
BEGIN:VEVENT
UID:20260423T185517CEST-8073xSwg2r@https://archiwum.biskupiec.pl/
DTSTAMP:20260423T165517Z
DESCRIPTION: https://archiwum.biskupiec.pl/zobacz-wykaz-i-szczegoly-wydarze
 n/wydarzenie/462-rajd-pieszy
DTSTART:20191208T000000Z
LOCATION:Biskupiec\, Polska (plac Wolności\, 11-300 Biskupiec\, Polska)
SUMMARY:Rajd pieszy
URL:https://archiwum.biskupiec.pl/zobacz-wykaz-i-szczegoly-wydarzen/wydarze
 nie/462-rajd-pieszy
END:VEVENT
BEGIN:VEVENT
UID:20260423T185517CEST-8076puoF2H@https://archiwum.biskupiec.pl/
DTSTAMP:20260423T165517Z
DESCRIPTION: https://archiwum.biskupiec.pl/zobacz-wykaz-i-szczegoly-wydarze
 n/wydarzenie/587-rajd-pieszy
DTSTART:20200119T000000Z
LOCATION:Biskupiec\, Polska (plac Wolności\, 11-300 Biskupiec\, Polska)
SUMMARY:Rajd pieszy
URL:https://archiwum.biskupiec.pl/zobacz-wykaz-i-szczegoly-wydarzen/wydarze
 nie/587-rajd-pieszy
END:VEVENT
BEGIN:VEVENT
UID:20260423T185517CEST-8079NmUhoz@https://archiwum.biskupiec.pl/
DTSTAMP:20260423T165517Z
DESCRIPTION: https://archiwum.biskupiec.pl/zobacz-wykaz-i-szczegoly-wydarze
 n/wydarzenie/603-walentynkowy-rajd-pieszy
DTSTART:20200216T000000Z
LOCATION:Biskupiec\, Polska (plac Wolności\, 11-300 Biskupiec\, Polska)
SUMMARY:Walentynkowy rajd pieszy
URL:https://archiwum.biskupiec.pl/zobacz-wykaz-i-szczegoly-wydarzen/wydarze
 nie/603-walentynkowy-rajd-pieszy
END:VEVENT
BEGIN:VEVENT
UID:20260423T185517CEST-8083pbUKzT@https://archiwum.biskupiec.pl/
DTSTAMP:20260423T165517Z
DESCRIPTION: https://archiwum.biskupiec.pl/zobacz-wykaz-i-szczegoly-wydarze
 n/wydarzenie/623-rajd-rowerowy
DTSTART:20200614T000000Z
LOCATION:Biskupiec\, Polska (plac Wolności\, 11-300 Biskupiec\, Polska)
SUMMARY:Rajd rowerowy
URL:https://archiwum.biskupiec.pl/zobacz-wykaz-i-szczegoly-wydarzen/wydarze
 nie/623-rajd-rowerowy
END:VEVENT
BEGIN:VEVENT
UID:20260423T185517CEST-8086CdHWgp@https://archiwum.biskupiec.pl/
DTSTAMP:20260423T165517Z
DESCRIPTION: https://archiwum.biskupiec.pl/zobacz-wykaz-i-szczegoly-wydarze
 n/wydarzenie/639-lipcowy-rajd-rowerowy
DTSTART:20200712T000000Z
LOCATION:Biskupiec\, Polska (plac Wolności\, 11-300 Biskupiec\, Polska)
SUMMARY:Lipcowy rajd rowerowy 
URL:https://archiwum.biskupiec.pl/zobacz-wykaz-i-szczegoly-wydarzen/wydarze
 nie/639-lipcowy-rajd-rowerowy
END:VEVENT
BEGIN:VEVENT
UID:20260423T185517CEST-8089LOx6e7@https://archiwum.biskupiec.pl/
DTSTAMP:20260423T165517Z
DESCRIPTION: https://archiwum.biskupiec.pl/zobacz-wykaz-i-szczegoly-wydarze
 n/wydarzenie/686-rajd-rowerowy
DTSTART:20200816T000000Z
LOCATION:Biskupiec\, Polska (plac Wolności\, 11-300 Biskupiec\, Polska)
SUMMARY:Rajd rowerowy
URL:https://archiwum.biskupiec.pl/zobacz-wykaz-i-szczegoly-wydarzen/wydarze
 nie/686-rajd-rowerowy
END:VEVENT
BEGIN:VEVENT
UID:20260423T185517CEST-8092E4RnU5@https://archiwum.biskupiec.pl/
DTSTAMP:20260423T165517Z
DESCRIPTION: https://archiwum.biskupiec.pl/zobacz-wykaz-i-szczegoly-wydarze
 n/wydarzenie/717-wrzesniowy-rajd-rowerowy
DTSTART:20200920T000000Z
LOCATION:Przystań Warmińska (Floriańska 2\, 11-300 Biskupiec\, Polska)
SUMMARY:Wrześniowy Rajd Rowerowy
URL:https://archiwum.biskupiec.pl/zobacz-wykaz-i-szczegoly-wydarzen/wydarze
 nie/717-wrzesniowy-rajd-rowerowy
END:VEVENT
BEGIN:VEVENT
UID:20260423T185517CEST-8096DulNnB@https://archiwum.biskupiec.pl/
DTSTAMP:20260423T165517Z
DESCRIPTION: https://archiwum.biskupiec.pl/zobacz-wykaz-i-szczegoly-wydarze
 n/wydarzenie/720-wrzesniowy-rajd-rowerowy-ze-slimakiem
DTSTART:20200920T000000Z
LOCATION:Przystań Warmińska (Floriańska 2\, 11-300 Biskupiec\, Polska)
SUMMARY:Wrześniowy Rajd Rowerowy ze Ślimakiem
URL:https://archiwum.biskupiec.pl/zobacz-wykaz-i-szczegoly-wydarzen/wydarze
 nie/720-wrzesniowy-rajd-rowerowy-ze-slimakiem
END:VEVENT
BEGIN:VEVENT
UID:20260423T185517CEST-8099uruITi@https://archiwum.biskupiec.pl/
DTSTAMP:20260423T165517Z
DESCRIPTION: https://archiwum.biskupiec.pl/zobacz-wykaz-i-szczegoly-wydarze
 n/wydarzenie/737-rajd-rowerowy
DTSTART:20201011T000000Z
LOCATION:Biskupiec (Biskupiec\, Polska)
SUMMARY:Rajd Rowerowy
URL:https://archiwum.biskupiec.pl/zobacz-wykaz-i-szczegoly-wydarzen/wydarze
 nie/737-rajd-rowerowy
END:VEVENT
BEGIN:VEVENT
UID:20260423T185517CEST-8102mLMxMt@https://archiwum.biskupiec.pl/
DTSTAMP:20260423T165517Z
DESCRIPTION: https://archiwum.biskupiec.pl/zobacz-wykaz-i-szczegoly-wydarze
 n/wydarzenie/748-walentynkowy-rajd-pieszy
DTSTART:20210214T000000Z
LOCATION:Biskupiec\, Polska (plac Wolności\, 11-300 Biskupiec\, Polska)
SUMMARY:Walentynkowy rajd pieszy
URL:https://archiwum.biskupiec.pl/zobacz-wykaz-i-szczegoly-wydarzen/wydarze
 nie/748-walentynkowy-rajd-pieszy
END:VEVENT
BEGIN:VEVENT
UID:20260423T185517CEST-8105OoCIFA@https://archiwum.biskupiec.pl/
DTSTAMP:20260423T165517Z
DESCRIPTION: https://archiwum.biskupiec.pl/zobacz-wykaz-i-szczegoly-wydarze
 n/wydarzenie/757-majowy-rajd-rowerowy
DTSTART:20210515T000000Z
LOCATION:Biskupiec\, Polska (plac Wolności\, 11-300 Biskupiec\, Polska)
SUMMARY:Majowy Rajd Rowerowy
URL:https://archiwum.biskupiec.pl/zobacz-wykaz-i-szczegoly-wydarzen/wydarze
 nie/757-majowy-rajd-rowerowy
END:VEVENT
BEGIN:VEVENT
UID:20260423T185517CEST-8109w7uWPp@https://archiwum.biskupiec.pl/
DTSTAMP:20260423T165517Z
DESCRIPTION: https://archiwum.biskupiec.pl/zobacz-wykaz-i-szczegoly-wydarze
 n/wydarzenie/765-rodzinny-rajd-pieszy
DTSTART:20210606T000000Z
LOCATION:Biskupiec\, Polska (plac Wolności\, 11-300 Biskupiec\, Polska)
SUMMARY:Rodzinny Rajd Pieszy
URL:https://archiwum.biskupiec.pl/zobacz-wykaz-i-szczegoly-wydarzen/wydarze
 nie/765-rodzinny-rajd-pieszy
END:VEVENT
BEGIN:VEVENT
UID:20260423T185517CEST-8112kUDEI4@https://archiwum.biskupiec.pl/
DTSTAMP:20260423T165517Z
DESCRIPTION: https://archiwum.biskupiec.pl/zobacz-wykaz-i-szczegoly-wydarze
 n/wydarzenie/774-czerwcowy-rajd-rowerowy
DTSTART:20210620T000000Z
LOCATION:Biskupiec\, Polska (plac Wolności\, 11-300 Biskupiec\, Polska)
SUMMARY:Czerwcowy Rajd Rowerowy
URL:https://archiwum.biskupiec.pl/zobacz-wykaz-i-szczegoly-wydarzen/wydarze
 nie/774-czerwcowy-rajd-rowerowy
END:VEVENT
BEGIN:VEVENT
UID:20260423T185517CEST-8115rFXUUP@https://archiwum.biskupiec.pl/
DTSTAMP:20260423T165517Z
DESCRIPTION: https://archiwum.biskupiec.pl/zobacz-wykaz-i-szczegoly-wydarze
 n/wydarzenie/779-rajd-rowerowy
DTSTART:20210718T000000Z
LOCATION:Biskupiec\, Polska (plac Wolności\, 11-300 Biskupiec\, Polska)
SUMMARY:Rajd rowerowy
URL:https://archiwum.biskupiec.pl/zobacz-wykaz-i-szczegoly-wydarzen/wydarze
 nie/779-rajd-rowerowy
END:VEVENT
BEGIN:VEVENT
UID:20260423T185517CEST-81187Vc9zp@https://archiwum.biskupiec.pl/
DTSTAMP:20260423T165517Z
DESCRIPTION: https://archiwum.biskupiec.pl/zobacz-wykaz-i-szczegoly-wydarze
 n/wydarzenie/780-rajd-rowerowy
DTSTART:20210808T000000Z
LOCATION:Biskupiec\, Polska (plac Wolności\, 11-300 Biskupiec\, Polska)
SUMMARY:Rajd rowerowy
URL:https://archiwum.biskupiec.pl/zobacz-wykaz-i-szczegoly-wydarzen/wydarze
 nie/780-rajd-rowerowy
END:VEVENT
BEGIN:VEVENT
UID:20260423T185517CEST-8121MuhmWd@https://archiwum.biskupiec.pl/
DTSTAMP:20260423T165517Z
DESCRIPTION: https://archiwum.biskupiec.pl/zobacz-wykaz-i-szczegoly-wydarze
 n/wydarzenie/781-rodzinny-rajd-pieszy
DTSTART:20210704T000000Z
LOCATION:Biskupiec\, Polska (plac Wolności\, 11-300 Biskupiec\, Polska)
SUMMARY:Rodzinny rajd pieszy
URL:https://archiwum.biskupiec.pl/zobacz-wykaz-i-szczegoly-wydarzen/wydarze
 nie/781-rodzinny-rajd-pieszy
END:VEVENT
BEGIN:VEVENT
UID:20260423T185517CEST-8125ebIzzL@https://archiwum.biskupiec.pl/
DTSTAMP:20260423T165517Z
DESCRIPTION: https://archiwum.biskupiec.pl/zobacz-wykaz-i-szczegoly-wydarze
 n/wydarzenie/871-rodzinny-rajd-pieszy
DTSTART:20210829T000000Z
LOCATION:Biskupiec\, Polska (plac Wolności\, 11-300 Biskupiec\, Polska)
SUMMARY:Rodzinny Rajd Pieszy
URL:https://archiwum.biskupiec.pl/zobacz-wykaz-i-szczegoly-wydarzen/wydarze
 nie/871-rodzinny-rajd-pieszy
END:VEVENT
BEGIN:VEVENT
UID:20260423T185517CEST-8128UiWSpx@https://archiwum.biskupiec.pl/
DTSTAMP:20260423T165517Z
DESCRIPTION: https://archiwum.biskupiec.pl/zobacz-wykaz-i-szczegoly-wydarze
 n/wydarzenie/886-wrzesniowy-rajd-rowerowy
DTSTART:20210912T000000Z
LOCATION:Biskupiec\, Polska (plac Wolności\, 11-300 Biskupiec\, Polska)
SUMMARY:Wrześniowy Rajd Rowerowy
URL:https://archiwum.biskupiec.pl/zobacz-wykaz-i-szczegoly-wydarzen/wydarze
 nie/886-wrzesniowy-rajd-rowerowy
END:VEVENT
END:VCALENDAR
